BEGIN:VCALENDAR
PRODID:-//eluceo/ical//2.0/EN
VERSION:2.0
CALSCALE:GREGORIAN
BEGIN:VEVENT
UID:100453ead18ffbc89988daf10b17c6e0
DTSTAMP:20260420T051641Z
SUMMARY:Vorstandssitzung
DESCRIPTION:siehe separate Einladung\nTalare: John Manning\, Präsident
URL:https://rc-dreilaendereck.ch/sv/agenda/show/90881
DTSTART;TZID=Europe/Zurich:20180813T180000
DTEND;TZID=Europe/Zurich:20180813T180000
LOCATION:-
CATEGORIES:Rotary
END:VEVENT
BEGIN:VTIMEZONE
TZID:Europe/Zurich
BEGIN:DAYLIGHT
DTSTART:20180813T180000
TZNAME:CEST
TZOFFSETTO:+0200
TZOFFSETFROM:+0200
END:DAYLIGHT
END:VTIMEZONE
END:VCALENDAR
