BEGIN:VCALENDAR
PRODID:-//eluceo/ical//2.0/EN
VERSION:2.0
CALSCALE:GREGORIAN
BEGIN:VEVENT
UID:374e1cfe8067115b79dd3f7ec6f4d966
DTSTAMP:20260420T053806Z
SUMMARY:Lions Clubs International - Unsere Organisation / Mein Governorjahr
  2018/19 - Ein sinnerfülltes Clubleben
DESCRIPTION:Mit unserem heutigen Referenten erhalten wir prominenten Einb
 lick in die Welt einer anderen Service-Club-Kultur.\n\nLions Clubs Interna
 tional (LCI) ist eine der grössten Serviceorganisation der Welt und wurd
 e 1917 in Chicago\, USA\, gegründet. Die weltweite Vereinigung verbindet 
 freie Menschen\, die in Freundschaft bereit sind\, sich den gesellschaftli
 chen Problemen unserer Zeit zu stellen und uneigennützig an ihrer Lösung
  mitzuwirken.\n\nMotto: «We serve»\n\nLions engagieren sich ehrenamtlich
  für Menschen\, die Hilfe brauchen. Dabei kümmern sie sich um Menschen i
 n ihrer Nachbarschaft genauso wie um Notleidende in aller Welt. Ob in Kin
 der- oder Jugendprojekten\, bei der Unterstützung Sehbehinderter oder im 
 Katastrophenfall.\n\nLions initiieren eigene Projekte oder unterstützen n
 ützliche Projekte von Partnerorganisationen – immer mit dem Ziel der Hi
 lfe zur Selbsthilfe. Neben sozialen Zielen fördern Lions auch kulturelle 
 Projekte und setzen sich für Völkerverständigung\, Toleranz\, Humanitä
 t und Bildung ein.\n\nIn der Schweiz wurden 1948 die ersten Clubs in Genf 
 und Zürich gegründet – übrigens mit Schweden die ersten Clubs in Euro
 pa. \n\nHeute engagieren sich in der Schweiz und in Liechtenstein in 266 
 Clubs über 10‘000 Menschen für das Gemeinwohl und erbringen Hilfeleist
 ungen zum Wohle ihrer Mitmenschen und ihrer Gemeinden - praktisch\, nah un
 d zupackend.  \n\nEs gibt reine Herren- oder Damenclubs\, aber auch zahl
 reiche gemischte Clubs sowie einen Cyber Lions Club.\n\nVideo 100 Jahre Li
 ons Clubs International\nWebbplats: https://www.lionsclubs.ch/\nTalare: Ku
 rt Wüest (Lions Club Basel Passerelle)\, District Governor 102 Centro
URL:https://rc-dreilaendereck.ch/sv/agenda/show/87626
DTSTART;TZID=Europe/Zurich:20181009T120000
DTEND;TZID=Europe/Zurich:20181009T120000
LOCATION:Restaurant Schlüsselzunft
CATEGORIES:Rotary
END:VEVENT
BEGIN:VTIMEZONE
TZID:Europe/Zurich
BEGIN:DAYLIGHT
DTSTART:20181009T120000
TZNAME:CEST
TZOFFSETTO:+0200
TZOFFSETFROM:+0200
END:DAYLIGHT
END:VTIMEZONE
END:VCALENDAR
