BEGIN:VCALENDAR
PRODID:-//eluceo/ical//2.0/EN
VERSION:2.0
CALSCALE:GREGORIAN
BEGIN:VEVENT
UID:44a5f1792b45b1682d39bd18aeada314
DTSTAMP:20260420T070411Z
SUMMARY:Partneranlass - Besuch bei der Weleda AG
DESCRIPTION:Wir sind Gast bei WELEDA in Arlesheim und erhalten einen Einbli
 ck in die Firma mit ihrem New Leadership. Ebenso werden wir den Minergie 
 P Eco-Neubau am Standort kennenlernen.\n\nAblauf\n18.30   Ankunft und Ap
 èro\n19.00   Präsentation und Rundgang\nanschliessend Ausklang\n\nKoste
 n pro Person CHF 35\n\nAnfahrtsbeschreibung\n\nAnmeldung bis Donnerstag\,
  30. August 2018 erbeten.\n\ngemeinsamer Anlass mit Rotaract Basel\nWebbp
 lats: https://www.weleda.ch\nTalare: Andrea Meyer\, Geschäftsführerin Ma
 rkt D-A-CH Arzneimittel\nMichael Brenner\, CFO
URL:https://rc-dreilaendereck.ch/sv/agenda/show/87622
DTSTART;TZID=Europe/Zurich:20180911T183000
DTEND;TZID=Europe/Zurich:20180911T183000
LOCATION:Dychweg 14\, 4144 Arlesheim
CATEGORIES:Rotary
END:VEVENT
BEGIN:VTIMEZONE
TZID:Europe/Zurich
BEGIN:DAYLIGHT
DTSTART:20180911T183000
TZNAME:CEST
TZOFFSETTO:+0200
TZOFFSETFROM:+0200
END:DAYLIGHT
END:VTIMEZONE
END:VCALENDAR
