BEGIN:VCALENDAR
PRODID:-//eluceo/ical//2.0/EN
VERSION:2.0
CALSCALE:GREGORIAN
BEGIN:VEVENT
UID:3f8b77785ec4ab4c07ecd82269fa087b
DTSTAMP:20260420T160855Z
SUMMARY:THE ITALIAN LUNCH - RESTAURANT DU COEUR  
DESCRIPTION:Mit diesem ITALIAN-LUNCH JEDEN ERSTEN DIENSTAG DES MONATS unte
 rstützen wir unser Gemeindienst-Schwerpunkt-Projekt SOUP&CHILL.\n\nSeit 
 Öffnung des Lokals als "Restaurant du Coeur" in Anlehnung an die Idee de
 s französischen Schauspielers\, Humoristen und Sozialaktivisten Coluche (
 Michel Gérard Joseph Colucci\, 1944-1986) bietet es Montag bis Freitag 
 von 12.00 bis 14.00 Uhr einen Mittagstisch an.\nWebbplats: https://www.s
 oupandchill.com/
URL:https://rc-dreilaendereck.ch/sv/agenda/show/76559
DTSTART;TZID=Europe/Zurich:20171003T120000
DTEND;TZID=Europe/Zurich:20171003T120000
LOCATION:Soup&Chill\, Solothurnerstrasse 8\, 4053 Basel
CATEGORIES:Rotary
END:VEVENT
BEGIN:VTIMEZONE
TZID:Europe/Zurich
BEGIN:DAYLIGHT
DTSTART:20171003T120000
TZNAME:CEST
TZOFFSETTO:+0200
TZOFFSETFROM:+0200
END:DAYLIGHT
END:VTIMEZONE
END:VCALENDAR
