BEGIN:VCALENDAR
PRODID:-//eluceo/ical//2.0/EN
VERSION:2.0
CALSCALE:GREGORIAN
BEGIN:VEVENT
UID:ceadc50fc47fed61a32959bc583bf423
DTSTAMP:20260420T140728Z
SUMMARY:Tontaubenschiessen
DESCRIPTION:Dank seiner perfekten Anlagen und der reichen Erfahrung der Aus
 bilder\, ist der Schießstand in Cernay seit 20 Jahren beliebter Treffpunk
 t für Hochleistungssportler aus dem In- und Ausland. Junge Jäger lernen 
 hier in aller Sicherheit die Handhabung von Gewehren und versierte Jäger 
 finden hier alles um sich zu perfektionieren. Und einige Besucher kommen e
 infach vorbei um das Tonscheibenschiessen auszuprobieren. Mitten in einer 
 herrlichen Natur\, ist der Schiesskomplex ausgestattet mit Olympiagräben\
 , Jagdparcours\, fiktiven laufenden Wildschweinen.\n\nDie Gaststätte « L
 a Palombière » sorgt für das leibliche Wohl.\n\nTages-Programm:\n\nAnre
 ise individuell\n\n11:30 Uhr         Mittagessen         
         fakultativ\n\n13:30 Uhr         Tontaubenschiessen\
 n\n                           Abendessen          
        fakultativ\n\nFür die Teilnahme am Tontaubenschiessen (exklu
 sive Verpflegung) werden CHF 50.- in Rechnung gestellt\, wobei sämtliche 
 Einnahmen dem SOS-Fond gutgeschrieben werden.\n\nFranziska Schmidt nimmt d
 ie verbindliche Anmeldung fürs Tontaubenschiessen gerne bis zum 13. Mär
 z 2017 entgegen an f.schmidt@batterman.com\nWebbplats: http://www.elsassis
 che-hoch-vogesen.de/de/sport-und-freizeit/themenparks-und-spielplatze/item
 /tonscheibenschiessen-in-cernay.html#.WLQ4ZhiX_eQ\nTalare: Heiner Birrer
URL:https://rc-dreilaendereck.ch/sv/agenda/show/71077
DTSTART;TZID=Europe/Zurich:20170317T133000
DTEND;TZID=Europe/Zurich:20170317T180000
LOCATION:ZI Europe - 9A rue de l'Industrie\, 68700 CERNAY\, Frankreich
CATEGORIES:Rotary
END:VEVENT
BEGIN:VTIMEZONE
TZID:Europe/Zurich
BEGIN:STANDARD
DTSTART:20170317T133000
TZNAME:CET
TZOFFSETTO:+0100
TZOFFSETFROM:+0100
END:STANDARD
END:VTIMEZONE
END:VCALENDAR
