BEGIN:VCALENDAR
PRODID:-//eluceo/ical//2.0/EN
VERSION:2.0
CALSCALE:GREGORIAN
BEGIN:VEVENT
UID:37de38e867ebc1ac78add7761fb501b4
DTSTAMP:20260419T115740Z
SUMMARY:Gemeinsam sind wir stark - ein Porträt der Krebsliga beider Basel
DESCRIPTION:Talare: Karin Fäh und Werner Schmid
URL:https://rc-dreilaendereck.ch/sv/agenda/show/28655
DTSTART;TZID=Europe/Zurich:20130122T120000
DTEND;TZID=Europe/Zurich:20130122T120000
LOCATION:Restaurant Schlüsselzunft
CATEGORIES:Rotary
END:VEVENT
BEGIN:VTIMEZONE
TZID:Europe/Zurich
BEGIN:STANDARD
DTSTART:20130122T120000
TZNAME:CET
TZOFFSETTO:+0100
TZOFFSETFROM:+0100
END:STANDARD
END:VTIMEZONE
END:VCALENDAR
