BEGIN:VCALENDAR
PRODID:-//eluceo/ical//2.0/EN
VERSION:2.0
CALSCALE:GREGORIAN
BEGIN:VEVENT
UID:d09e3c65590bc741fcf95d3f39efb387
DTSTAMP:20260419T134807Z
SUMMARY:Em Bebbi sy Jazz
DESCRIPTION:Auch dieses Jahr werden Rotarierinnen und Rotarier unseres Club
 s einen Grillstand am oberen Spalenberg von 17.00 - 24.00 Uhr betreuen. De
 r Erlös aus dem Verkauf kommt den Club-Sozialprojekten zugute. "Mir fraie
 n is uff Ihre Bsuech bim 29. Em Bebbi sy Jazz!"
URL:https://rc-dreilaendereck.ch/sv/agenda/show/23824
DTSTART;TZID=Europe/Zurich:20120817T170000
DTEND;TZID=Europe/Zurich:20120817T190000
LOCATION:Spalenberg
CATEGORIES:Rotary
END:VEVENT
BEGIN:VTIMEZONE
TZID:Europe/Zurich
BEGIN:DAYLIGHT
DTSTART:20120817T170000
TZNAME:CEST
TZOFFSETTO:+0200
TZOFFSETFROM:+0200
END:DAYLIGHT
END:VTIMEZONE
END:VCALENDAR
