BEGIN:VCALENDAR
PRODID:-//eluceo/ical//2.0/EN
VERSION:2.0
CALSCALE:GREGORIAN
BEGIN:VEVENT
UID:862afc04319bebc44fd0cf26d997673b
DTSTAMP:20260420T065724Z
SUMMARY:Online Plauderlunch
DESCRIPTION:Gäste sind herzlich willkommen!\nWebbplats: https://www.gotome
 et.me/RCBaselDreiländereck
URL:https://rc-dreilaendereck.ch/sv/agenda/show/111382
DTSTART;TZID=Europe/Zurich:20200428T121500
DTEND;TZID=Europe/Zurich:20200428T133000
LOCATION:Online
CATEGORIES:Rotary
END:VEVENT
BEGIN:VTIMEZONE
TZID:Europe/Zurich
BEGIN:DAYLIGHT
DTSTART:20200428T121500
TZNAME:CEST
TZOFFSETTO:+0200
TZOFFSETFROM:+0200
END:DAYLIGHT
END:VTIMEZONE
END:VCALENDAR
