BEGIN:VCALENDAR
PRODID:-//eluceo/ical//2.0/EN
VERSION:2.0
CALSCALE:GREGORIAN
BEGIN:VEVENT
UID:c561f8549b7bfaeaa9b522a2e72785ef
DTSTAMP:20260420T120345Z
SUMMARY:Gsünder Basel
DESCRIPTION:Talare: Stefanie Seiler 
URL:https://rc-dreilaendereck.ch/sv/agenda/show/109583
DTSTART;TZID=Europe/Zurich:20200317T121500
DTEND;TZID=Europe/Zurich:20200317T133000
LOCATION:Restaurant Schlüsselzunft
CATEGORIES:Rotary
END:VEVENT
BEGIN:VTIMEZONE
TZID:Europe/Zurich
BEGIN:STANDARD
DTSTART:20200317T121500
TZNAME:CET
TZOFFSETTO:+0100
TZOFFSETFROM:+0100
END:STANDARD
END:VTIMEZONE
END:VCALENDAR
