BEGIN:VCALENDAR
PRODID:-//eluceo/ical//2.0/EN
VERSION:2.0
CALSCALE:GREGORIAN
BEGIN:VEVENT
UID:aeda856b698fbacaf56536acaff4b7e2
DTSTAMP:20260420T133457Z
SUMMARY:Rotary Benefizkonzert KKL Luzern
DESCRIPTION:Webbplats: https://rotarykonzert.ch/
URL:https://rc-dreilaendereck.ch/sv/agenda/show/109581
DTSTART;TZID=Europe/Zurich:20200315T170000
DTEND;TZID=Europe/Zurich:20200315T210000
LOCATION:Luzern
CATEGORIES:Rotary
END:VEVENT
BEGIN:VTIMEZONE
TZID:Europe/Zurich
BEGIN:STANDARD
DTSTART:20200315T170000
TZNAME:CET
TZOFFSETTO:+0100
TZOFFSETFROM:+0100
END:STANDARD
END:VTIMEZONE
END:VCALENDAR
