BEGIN:VCALENDAR
PRODID:-//eluceo/ical//2.0/EN
VERSION:2.0
CALSCALE:GREGORIAN
BEGIN:VEVENT
UID:6dc1d6977f9799ab214975947ad3738a
DTSTAMP:20260424T181044Z
SUMMARY:Nikolaus Lunch
DESCRIPTION:
URL:https://rc-dreilaendereck.ch/nl/agenda/show/19339
DTSTART;TZID=Europe/Zurich:20111206T120000
DTEND;TZID=Europe/Zurich:20111206T140000
LOCATION:Restaurant Schlüsselzunft
CATEGORIES:Rotary
END:VEVENT
BEGIN:VTIMEZONE
TZID:Europe/Zurich
BEGIN:STANDARD
DTSTART:20111206T120000
TZNAME:CET
TZOFFSETTO:+0100
TZOFFSETFROM:+0100
END:STANDARD
END:VTIMEZONE
END:VCALENDAR
