BEGIN:VCALENDAR
PRODID:-//eluceo/ical//2.0/EN
VERSION:2.0
CALSCALE:GREGORIAN
BEGIN:VEVENT
UID:0aea26ccc796223efd0c87cb9d65aaf7
DTSTAMP:20260424T143609Z
SUMMARY:Jugendschutz und Videospiele
DESCRIPTION:Aus Sicht von Renato Meier\, Direktor Marketing & Sales Nitendo
  Schweiz
URL:https://rc-dreilaendereck.ch/nl/agenda/show/19338
DTSTART;TZID=Europe/Zurich:20111129T120000
DTEND;TZID=Europe/Zurich:20111129T140000
LOCATION:Restaurant Schlüsselzunft
CATEGORIES:Rotary
END:VEVENT
BEGIN:VTIMEZONE
TZID:Europe/Zurich
BEGIN:STANDARD
DTSTART:20111129T120000
TZNAME:CET
TZOFFSETTO:+0100
TZOFFSETFROM:+0100
END:STANDARD
END:VTIMEZONE
END:VCALENDAR
