BEGIN:VCALENDAR
PRODID:-//eluceo/ical//2.0/EN
VERSION:2.0
CALSCALE:GREGORIAN
BEGIN:VEVENT
UID:7bd07938dc186ac1096166c292150b3d
DTSTAMP:20260424T184122Z
SUMMARY:Gemeindienstanlass
DESCRIPTION:Einschalten der Weihnachtsbeleuchtung Anschl. Nachtessen
URL:https://rc-dreilaendereck.ch/nl/agenda/show/19337
DTSTART;TZID=Europe/Zurich:20111124T180000
DTEND;TZID=Europe/Zurich:20111124T200000
LOCATION:-
CATEGORIES:Rotary
END:VEVENT
BEGIN:VTIMEZONE
TZID:Europe/Zurich
BEGIN:STANDARD
DTSTART:20111124T180000
TZNAME:CET
TZOFFSETTO:+0100
TZOFFSETFROM:+0100
END:STANDARD
END:VTIMEZONE
END:VCALENDAR
