BEGIN:VCALENDAR
PRODID:-//eluceo/ical//2.0/EN
VERSION:2.0
CALSCALE:GREGORIAN
BEGIN:VEVENT
UID:d02dcfe67bdc78c9e2a39f3cb7d0a23e
DTSTAMP:20260424T143822Z
SUMMARY:Schriften von Persönlichkeiten
DESCRIPTION:aus Sicht einer Graphologin
URL:https://rc-dreilaendereck.ch/nl/agenda/show/19333
DTSTART;TZID=Europe/Zurich:20111108T120000
DTEND;TZID=Europe/Zurich:20111108T140000
LOCATION:Restaurant Schlüsselzunft
CATEGORIES:Rotary
END:VEVENT
BEGIN:VTIMEZONE
TZID:Europe/Zurich
BEGIN:STANDARD
DTSTART:20111108T120000
TZNAME:CET
TZOFFSETTO:+0100
TZOFFSETFROM:+0100
END:STANDARD
END:VTIMEZONE
END:VCALENDAR
