BEGIN:VCALENDAR
PRODID:-//eluceo/ical//2.0/EN
VERSION:2.0
CALSCALE:GREGORIAN
BEGIN:VEVENT
UID:daafe6cf717a60063b08e2331a7a7d93
DTSTAMP:20260425T005334Z
SUMMARY:Referat: International Yachting Fellowship of Rotarians
DESCRIPTION:Website: http://schluesselzunft.ch/\nSprekers: Phil Kläy\, RC 
 Wettstein
URL:https://rc-dreilaendereck.ch/nl/agenda/show/158953
DTSTART;TZID=Europe/Zurich:20240430T121500
DTEND;TZID=Europe/Zurich:20240430T133000
LOCATION:Restaurant Schlüsselzunft\, Freie Strasse 25\, 4001 Basel
CATEGORIES:Rotary
END:VEVENT
BEGIN:VTIMEZONE
TZID:Europe/Zurich
BEGIN:DAYLIGHT
DTSTART:20240430T121500
TZNAME:CEST
TZOFFSETTO:+0200
TZOFFSETFROM:+0200
END:DAYLIGHT
END:VTIMEZONE
END:VCALENDAR
