BEGIN:VCALENDAR
PRODID:-//eluceo/ical//2.0/EN
VERSION:2.0
CALSCALE:GREGORIAN
BEGIN:VEVENT
UID:e98b535a562ab2fc31225429e366a163
DTSTAMP:20260421T205227Z
SUMMARY:FAMILIENANLASS - KALLIGRAPHIEKURS
DESCRIPTION:Eine Idee für's Weihnachtsfest\n\nDie Kunst des Schönen Schre
 ibens erlernt man nicht an einem Tag\, ABER mit dem Kalligraphiekurs von 
 Andy Schenk werden Einsteiger beim ersten Federstrichen auf dem Papier b
 egleitet und ihnen gezeigt\, wie sie sich eine Welt voller Rhythmus und R
 uhe\, Erleben und Hingabe erschliessen können.\n\nFür Fortgeschrittene g
 ibt es diverse Möglichkeiten\, den Variationen nicht nur mit Tinte und Fe
 der\, sondern mit vielen verschiedenen Schreibgeräten und Techniken auf d
 ie Spur zu kommen. Ausserdem stehen im Atelier alle erdenklichen Möglich
 keiten zur Verfügung\, sich kalligraphisch auszuleben.\n\nDie Teilnehmerz
 ahl ist begrenzt.\n\nKosten inklusiv Material und Apéro pro Person: CHF 
 150\n\nAnmeldung erbeten bis zum 23. November 2018.\nSito web: http://www
 .kalligraphie.com/17-0-Ueber-uns.html\nRelatore/i: Andreas Schenk\, Kallig
 raph
URL:https://rc-dreilaendereck.ch/it/agenda/show/93017
DTSTART;TZID=Europe/Zurich:20181201T100000
DTEND;TZID=Europe/Zurich:20181201T180000
LOCATION:Atelier/Kurslokal\, Farnsburgerstrasse 44\, 4052 Basel
CATEGORIES:Rotary
END:VEVENT
BEGIN:VTIMEZONE
TZID:Europe/Zurich
BEGIN:STANDARD
DTSTART:20181201T100000
TZNAME:CET
TZOFFSETTO:+0100
TZOFFSETFROM:+0100
END:STANDARD
END:VTIMEZONE
END:VCALENDAR
