BEGIN:VCALENDAR
PRODID:-//eluceo/ical//2.0/EN
VERSION:2.0
CALSCALE:GREGORIAN
BEGIN:VEVENT
UID:f289b0e21633fea07f4d43478a6c57b2
DTSTAMP:20260422T022137Z
SUMMARY:Was macht eigentlich ... ?
DESCRIPTION:Aus Anlass unseres 20jährigen Bestehen berichten unsere Gründ
 ungsmitglieder in einem Klassfikationsvortrag aus ihrem Leben.\nRelatore/i
 : Markus Stokar\, Gründungsmitglied RC Basel-Dreiländereck
URL:https://rc-dreilaendereck.ch/it/agenda/show/87778
DTSTART;TZID=Europe/Zurich:20181120T120000
DTEND;TZID=Europe/Zurich:20181120T120000
LOCATION:Restaurant Schlüsselzunft
CATEGORIES:Rotary
END:VEVENT
BEGIN:VTIMEZONE
TZID:Europe/Zurich
BEGIN:STANDARD
DTSTART:20181120T120000
TZNAME:CET
TZOFFSETTO:+0100
TZOFFSETFROM:+0100
END:STANDARD
END:VTIMEZONE
END:VCALENDAR
