BEGIN:VCALENDAR
PRODID:-//eluceo/ical//2.0/EN
VERSION:2.0
CALSCALE:GREGORIAN
BEGIN:VEVENT
UID:8551c89c2d1959bf77af41753581e873
DTSTAMP:20260422T002728Z
SUMMARY:mine-ex Sponsorenanlass am Basler Stadtlauf
DESCRIPTION:Rennen\, damit andere wieder laufen können - mine-ex: Rotari
 er helfen Minenopfern\n\nSo funktioniert’s:\n\nFür Läufer + Läuferinn
 en\nSchritt 1\nRegistrierung für den Basler Stadtlauf bei Datasport mit f
 olgendem Link\nSchritt 2\nAnmeldung für das Sponsorenprojekt mine-ex an 
 die Projektleitung per E-Mail \nMit Name\, Adresse\, Telefon-Nummer\, E-M
 ail-Adresse\, Rotary Club und Läuferkategorie\nSchritt 3\nErfassung der S
 ponsoren auf dem danach erhaltenen Sponsoren-Erfassungsblatt\nSchritt 4\nT
 eilnahme am 24. November 2018 am Basler Stadtlauf\n\nFür Sponsoren\nZusag
 e einer pauschalen Spende an einen Läufer /eine Läuferin\noder\nÜberwe
 isung einer Spende auf das Konto bei der Basellandschaftlichen Kantonalban
 k Liestal zu Gunsten Rotary Club Muttenz Wartenberg\, 4132 Muttenz\, Rotar
 y für mine-ex\, IBAN CH65 0076 9039 7193 0200 2. Die Spenden werden verd
 ankt und können so in der Steuererklärung vom Einkommen abgezogen werden
 .\n\nEine Erfrischung am Rotary-Stand vor dem Warenhaus Coop City am Markt
 platz an der Gerbergasse 4 (ehemals EPA) schafft Gelegenheit zur gesellige
 n Begegnung.\n\nmine-ex will Opfern von Personenminen und Blindgängern in
  Kambocsch und Afghanistan wieder zu einem möglichst menschenwürdigen un
 d selbständigen Leben verhelfen. In Zusammenarbeit mit dem IKRK werden i
 n Kambodscha Prothesenmacher ausgebildet\, eine Fabrik für Prothesen-Komp
 onenten unterhalten und nach neuen\, einfachen Mitteln für die Erleichter
 ung des Alltages gesucht. In Afghanistan betreibt das IKRK sieben orthopä
 dische Versorgungszentren. Für die Zusammenarbeit mit dem IKRK stellt Rot
 ary neben aktiver und ehrenamtlicher Mitarbeit jährlich rund CHF 800'000 
 zur Verfügung. Um die erfolgreiche\, langjährige Zusammenarbeit mit dem
  IKRK im bisherigen Rahmen fortzusetzen ist mine-ex auf Sponsoring-Events 
 angewiesen\, welche in etwa jährlich CHF 500'000 einbringen.\n\nWeitere I
 nformationen auf beiliegendem Flyer oder auf www.mine-ex.ch.\nSito web: 
 https://mine-ex.ch
URL:https://rc-dreilaendereck.ch/it/agenda/show/87367
DTSTART;TZID=Europe/Zurich:20181124T170000
DTEND;TZID=Europe/Zurich:20181124T170000
LOCATION:Basel
CATEGORIES:Rotary
END:VEVENT
BEGIN:VTIMEZONE
TZID:Europe/Zurich
BEGIN:STANDARD
DTSTART:20181124T170000
TZNAME:CET
TZOFFSETTO:+0100
TZOFFSETFROM:+0100
END:STANDARD
END:VTIMEZONE
END:VCALENDAR
