BEGIN:VCALENDAR
PRODID:-//eluceo/ical//2.0/EN
VERSION:2.0
CALSCALE:GREGORIAN
BEGIN:VEVENT
UID:8261fd02ae9b9e5e0d6da0268cbbe5dc
DTSTAMP:20260422T075726Z
SUMMARY:Mitgliederversammlung
DESCRIPTION:Siehe separate Einladung!\nRelatore/i: John Manning\, Präsiden
 t
URL:https://rc-dreilaendereck.ch/it/agenda/show/87365
DTSTART;TZID=Europe/Zurich:20190625T110000
DTEND;TZID=Europe/Zurich:20190625T110000
LOCATION:Restaurant Schlüsselzunft
CATEGORIES:Rotary
END:VEVENT
BEGIN:VTIMEZONE
TZID:Europe/Zurich
BEGIN:DAYLIGHT
DTSTART:20190625T110000
TZNAME:CEST
TZOFFSETTO:+0200
TZOFFSETFROM:+0200
END:DAYLIGHT
END:VTIMEZONE
END:VCALENDAR
