BEGIN:VCALENDAR
PRODID:-//eluceo/ical//2.0/EN
VERSION:2.0
CALSCALE:GREGORIAN
BEGIN:VEVENT
UID:61e5b48bc23a4b980ff7c1150576e795
DTSTAMP:20260425T125838Z
SUMMARY:Partneranlass / Abendanlass / fun event - Besuch Weihnachtsmarkt mi
 t Rotaract Club Basel
DESCRIPTION:Partneranlass inkl. Rotaract am Basler Weihnachtsmarkt.\n\nTre
 ffpunkt um 19:00 Uhr beim Barfi (vor dem Braunen Mutz)\n\nanschl. kulinari
 scher Rundgang bei den verschiedenen Marktständen.\n\nAusklang nach indiv
 iduellen Wünschen...\nRelatore/i: Sascha Jäger
URL:https://rc-dreilaendereck.ch/it/agenda/show/76587
DTSTART;TZID=Europe/Zurich:20171214T190000
DTEND;TZID=Europe/Zurich:20171214T190000
LOCATION:Basler Weihnachtsmarkt
CATEGORIES:Rotary
END:VEVENT
BEGIN:VTIMEZONE
TZID:Europe/Zurich
BEGIN:STANDARD
DTSTART:20171214T190000
TZNAME:CET
TZOFFSETTO:+0100
TZOFFSETFROM:+0100
END:STANDARD
END:VTIMEZONE
END:VCALENDAR
