BEGIN:VCALENDAR
PRODID:-//eluceo/ical//2.0/EN
VERSION:2.0
CALSCALE:GREGORIAN
BEGIN:VEVENT
UID:a3385edff46ff612e25f5428a57e6c4b
DTSTAMP:20260421T154231Z
SUMMARY:Vortrag Dr. Alberto Isenburg\, Leiter AUE BL\, Verwaltungsreform n
 ötig oder lästig?
DESCRIPTION:Relatore/i: Dr. Alberto Isenburg\, Leiter AUE BL
URL:https://rc-dreilaendereck.ch/it/agenda/show/76498
DTSTART;TZID=Europe/Zurich:20170630T120000
DTEND;TZID=Europe/Zurich:20170630T120000
LOCATION:Restaurant Schlüsselzunft\, Freie Strasse 25\, 4001 Basel 
CATEGORIES:Rotary
END:VEVENT
BEGIN:VTIMEZONE
TZID:Europe/Zurich
BEGIN:DAYLIGHT
DTSTART:20170630T120000
TZNAME:CEST
TZOFFSETTO:+0200
TZOFFSETFROM:+0200
END:DAYLIGHT
END:VTIMEZONE
END:VCALENDAR
