BEGIN:VCALENDAR
PRODID:-//eluceo/ical//2.0/EN
VERSION:2.0
CALSCALE:GREGORIAN
BEGIN:VEVENT
UID:89e60b9fb4667549c81999b027037c82
DTSTAMP:20260421T170054Z
SUMMARY:Vortrag Caterina Schneeberger\, Managing Director Connectiv AG / Re
 location Services
DESCRIPTION:Ihre Mitarbeiter sind Ihre wertvollste Investition\n\nDie Suche
  nach einem vertrauenswürdigen Partner\, der von Grund auf die Bedürfnis
 se und Wünsche eines Standortwechsels versteht\, ist zeitaufwändig und h
 erausfordernd. Wenn Sie einen neuen Mitarbeiter rekrutieren\, wollen Sie d
 en Besten überzeugen\, in Ihrer Firma anzufangen. Dies ist oft mit einem 
 Standortwechsel für den Kandidaten verbunden. Wir wissen\, wie knapp und 
 wertvoll Ihre Zeit und diejenige Ihres zukünftigen Mitarbeiters ist – u
 nd stellen sicher\, dass alle Beteiligten sich gut aufgehoben fühlen und 
 somit produktiv\, effizient und motiviert sind.\n\nUnd hier kommen wir ins
  Spiel. Wir verstehen die Emotionen\, in einem neuen Land oder in einer ne
 uen Stadt anzukommen ohne zu wissen\, wo man den ersten Schritt machen sol
 l.\nSito web: http://www.connectiv.ch\nRelatore/i: Caterina Schneeberger\,
   Relocation Services - Begleitung von ausländischen Arbeitnehmern beim Z
 uzug nach Basel
URL:https://rc-dreilaendereck.ch/it/agenda/show/75285
DTSTART;TZID=Europe/Zurich:20170829T120000
DTEND;TZID=Europe/Zurich:20170829T120000
LOCATION:Restaurant Schlüsselzunft\, Freie Strasse 25\, 4001 Basel 
CATEGORIES:Rotary
END:VEVENT
BEGIN:VTIMEZONE
TZID:Europe/Zurich
BEGIN:DAYLIGHT
DTSTART:20170829T120000
TZNAME:CEST
TZOFFSETTO:+0200
TZOFFSETFROM:+0200
END:DAYLIGHT
END:VTIMEZONE
END:VCALENDAR
