BEGIN:VCALENDAR
PRODID:-//eluceo/ical//2.0/EN
VERSION:2.0
CALSCALE:GREGORIAN
BEGIN:VEVENT
UID:eb07cbb06f566f04427903d0f43bea8e
DTSTAMP:20260421T154352Z
SUMMARY:SUMMER LUNCH - PARKRESTAURANT LANGE ERLEN zusammen mit dem Rotary C
 lub Basel-Riehen
DESCRIPTION:Dieses Mittagessen wird gemeinsam mit den Freunden des Rotary C
 lubs Basel-Riehen durchgeführt. Wir freuen uns auf eine rege Beteiligung 
 und einen angeregten Austausch.\n\nAuf der Gartenterrasse des Parkrestaura
 nts Lange Erlen geniessen wir während den Sommerferien die Mittagslunches
  im Kreise der rotarischen Freundinnen und Freunde.\n\nFür Gäste stehen 
 hinter dem Restaurant weitere Parkplätze zur Verfügung.\n\nAnreise mit 
 öffentlichem Verkehr\n\nab Bahnhof SBB: Tramlinie 2 Richtung 'Riehen Dorf
 ' bis Haltestelle 'Badischer Bahnhof'\nab Badischer Bahnhof: Buslinie 36 R
 ichtung 'Kleinhüningen' bis Haltestelle 'Lange Erlen'\n (Achtung: nur je
 der 2. Kurs verkehrt via Lange Erlen!)\n\nLink Basler Verkehrsbetriebe: ww
 w.bvb.ch\n\nAnreise mit dem Auto\n\nAutobahn A2 Richtung 'Karlsruhe (D)\, 
 Mulhouse (F)\, EuroAirport\, Basel-Nord'\nAusfahrt 1 Richtung 'Basel-Klein
 hüningen / Weil am Rhein'\nrechts abbiegen auf die Fasanenstrasse\, links
  abbiegen zum Tierpark Lange Erlen\nSito web: http://www.langeerlen.ch/\nR
 elatore/i: Geschäftsführer Alexandre Schmitt
URL:https://rc-dreilaendereck.ch/it/agenda/show/75246
DTSTART;TZID=Europe/Zurich:20170718T120000
DTEND;TZID=Europe/Zurich:20170718T120000
LOCATION:Parkrestaurant Lange Erlen\, Erlenparkweg 55\, 4058 Basel
CATEGORIES:Rotary
END:VEVENT
BEGIN:VTIMEZONE
TZID:Europe/Zurich
BEGIN:DAYLIGHT
DTSTART:20170718T120000
TZNAME:CEST
TZOFFSETTO:+0200
TZOFFSETFROM:+0200
END:DAYLIGHT
END:VTIMEZONE
END:VCALENDAR
