BEGIN:VCALENDAR
PRODID:-//eluceo/ical//2.0/EN
VERSION:2.0
CALSCALE:GREGORIAN
BEGIN:VEVENT
UID:23ee4f06f21d7731c0abf78cead6c3e6
DTSTAMP:20260421T152138Z
SUMMARY:KING OF THE GRILL - RESTAURANT DU COEUR
DESCRIPTION:Sito web: http://www.soupandchill.com
URL:https://rc-dreilaendereck.ch/it/agenda/show/71078
DTSTART;TZID=Europe/Zurich:20170404T120000
DTEND;TZID=Europe/Zurich:20170404T140000
LOCATION:Soup&Chill\, Solothurnerstrasse 8\, 4053 Basel
CATEGORIES:Rotary
END:VEVENT
BEGIN:VTIMEZONE
TZID:Europe/Zurich
BEGIN:DAYLIGHT
DTSTART:20170404T120000
TZNAME:CEST
TZOFFSETTO:+0200
TZOFFSETFROM:+0200
END:DAYLIGHT
END:VTIMEZONE
END:VCALENDAR
