BEGIN:VCALENDAR
PRODID:-//eluceo/ical//2.0/EN
VERSION:2.0
CALSCALE:GREGORIAN
BEGIN:VEVENT
UID:195253ca1475c719ea12e36f5d1588fd
DTSTAMP:20260421T151824Z
SUMMARY:Referat: „Impressionen aus Nordkorea“
DESCRIPTION:Sito web: https://www.vitra.com/de-ch/home\nRelatore/i: Dr. Oli
 vier Hafner - COO Vitra AG
URL:https://rc-dreilaendereck.ch/it/agenda/show/69928
DTSTART;TZID=Europe/Zurich:20170228T120000
DTEND;TZID=Europe/Zurich:20170228T140000
LOCATION:Restaurant Schlüsselzunft
CATEGORIES:Rotary
END:VEVENT
BEGIN:VTIMEZONE
TZID:Europe/Zurich
BEGIN:STANDARD
DTSTART:20170228T120000
TZNAME:CET
TZOFFSETTO:+0100
TZOFFSETFROM:+0100
END:STANDARD
END:VTIMEZONE
END:VCALENDAR
