BEGIN:VCALENDAR
PRODID:-//eluceo/ical//2.0/EN
VERSION:2.0
CALSCALE:GREGORIAN
BEGIN:VEVENT
UID:bbabe6a574ce894a537e2ff0099e38c7
DTSTAMP:20260426T014208Z
SUMMARY:Partneranlass (Ort noch offen)
DESCRIPTION:
URL:https://rc-dreilaendereck.ch/it/agenda/show/49134
DTSTART;TZID=Europe/Zurich:20150218T180000
DTEND;TZID=Europe/Zurich:20150218T180000
LOCATION:-
CATEGORIES:Rotary
END:VEVENT
BEGIN:VTIMEZONE
TZID:Europe/Zurich
BEGIN:STANDARD
DTSTART:20150218T180000
TZNAME:CET
TZOFFSETTO:+0100
TZOFFSETFROM:+0100
END:STANDARD
END:VTIMEZONE
END:VCALENDAR
