BEGIN:VCALENDAR
PRODID:-//eluceo/ical//2.0/EN
VERSION:2.0
CALSCALE:GREGORIAN
BEGIN:VEVENT
UID:dcf4e710b7c3b89233c3cfa43f85c6dc
DTSTAMP:20260423T111646Z
SUMMARY:Projekt «Aiducation International»
DESCRIPTION:Aiducation International vergibt Gymnasialstipendien an talenti
 erte und motivierte junge Menschen in Entwicklungsländern\, damit sie ihr
  Land weiterbringen können.\nSito web: http://www.aiducation.org/\nRelato
 re/i: Dr. Kristin Kapitza\, Mitgründerin von Aiducation
URL:https://rc-dreilaendereck.ch/it/agenda/show/46687
DTSTART;TZID=Europe/Zurich:20150317T120000
DTEND;TZID=Europe/Zurich:20150317T120000
LOCATION:Restaurant Schlüsselzunft
CATEGORIES:Rotary
END:VEVENT
BEGIN:VTIMEZONE
TZID:Europe/Zurich
BEGIN:STANDARD
DTSTART:20150317T120000
TZNAME:CET
TZOFFSETTO:+0100
TZOFFSETFROM:+0100
END:STANDARD
END:VTIMEZONE
END:VCALENDAR
