BEGIN:VCALENDAR
PRODID:-//eluceo/ical//2.0/EN
VERSION:2.0
CALSCALE:GREGORIAN
BEGIN:VEVENT
UID:707117fc8ba73da897db16ecc7e5527d
DTSTAMP:20260421T114200Z
SUMMARY:Im Gespräch mit Dr. Bernhard Heusler
DESCRIPTION:Wir treffen uns zur Gesprächsrunde mit Bernhard Heusler\, Prä
 sident FCB im REHAB Basel.\n\nProgramm:\n\nAb 18.30 Uhr: Eintreffen der G
 äste\n\n     19.00 Uhr: Begrüssung: Regula Ruetz / Stephan Bachmann\
 n\n     19.05 Uhr: Im Gespräch mit Bernhard Heusler\n\n     20.
 00 Uhr: Apéro riche\n\nKosten / Verwendung:\n\nWir werden pro Person CHF 
 25.--  einziehen. Ein Teil des Ertrages des Abends geht an ein/e von Bern
 hard Heusler zu bestimmende/s gemeinnützige/s Organisation / Projekt. De
 r Rest kommt in unsere Club-Kasse zu Gunsten von Projekten. Der Apéro ric
 he wird von Stephan Bachmann offeriert.\n\nDanke für eure An- oder Abmeld
 ungen an Fleur Burri-Isenschmid\, f.burri@rehab.ch  oder euren Eintrag 
 via Rotary-Website bis am Mittwoch\, 4. Februar 2015.\n\nWir freuen uns a
 uf den Anlass und hoffen auf zahlreiches Erscheinen.\n\nHerzliche rotarisc
 he Grüsse\n\nRegula Ruetz                Stephan Bachmann\n
 Präsidentin                   Programmchef\n\n\nRelatore
 /i: Dr. Bernhard Heusler\, u.a. FCB-Präsident
URL:https://rc-dreilaendereck.ch/it/agenda/show/46590
DTSTART;TZID=Europe/Zurich:20150209T183000
DTEND;TZID=Europe/Zurich:20150209T183000
LOCATION:REHAB Basel\, im Burgfelderhof 40\, 4012 Basel
CATEGORIES:Rotary
END:VEVENT
BEGIN:VTIMEZONE
TZID:Europe/Zurich
BEGIN:STANDARD
DTSTART:20150209T183000
TZNAME:CET
TZOFFSETTO:+0100
TZOFFSETFROM:+0100
END:STANDARD
END:VTIMEZONE
END:VCALENDAR
