BEGIN:VCALENDAR
PRODID:-//eluceo/ical//2.0/EN
VERSION:2.0
CALSCALE:GREGORIAN
BEGIN:VEVENT
UID:e96d1e370256e8a9de394be6dad694bd
DTSTAMP:20260425T222819Z
SUMMARY:Plauderlunch (im Parterre Schlüsselzunft\, da Fasnacht)
DESCRIPTION:
URL:https://rc-dreilaendereck.ch/it/agenda/show/44783
DTSTART;TZID=Europe/Zurich:20150224T120000
DTEND;TZID=Europe/Zurich:20150224T120000
LOCATION:Restaurant Schlüsselzunft
CATEGORIES:Rotary
END:VEVENT
BEGIN:VTIMEZONE
TZID:Europe/Zurich
BEGIN:STANDARD
DTSTART:20150224T120000
TZNAME:CET
TZOFFSETTO:+0100
TZOFFSETFROM:+0100
END:STANDARD
END:VTIMEZONE
END:VCALENDAR
