BEGIN:VCALENDAR
PRODID:-//eluceo/ical//2.0/EN
VERSION:2.0
CALSCALE:GREGORIAN
BEGIN:VEVENT
UID:b62db0bee943fd4d4a1e8884cdd5a898
DTSTAMP:20260425T183720Z
SUMMARY:Baselworld
DESCRIPTION:Relatore/i: Sylvie Ritter
URL:https://rc-dreilaendereck.ch/it/agenda/show/41792
DTSTART;TZID=Europe/Zurich:20150309T180000
DTEND;TZID=Europe/Zurich:20150309T180000
LOCATION:Messe Basel
CATEGORIES:Rotary
END:VEVENT
BEGIN:VTIMEZONE
TZID:Europe/Zurich
BEGIN:STANDARD
DTSTART:20150309T180000
TZNAME:CET
TZOFFSETTO:+0100
TZOFFSETFROM:+0100
END:STANDARD
END:VTIMEZONE
END:VCALENDAR
