BEGIN:VCALENDAR
PRODID:-//eluceo/ical//2.0/EN
VERSION:2.0
CALSCALE:GREGORIAN
BEGIN:VEVENT
UID:29b7d7e10416aea1de624c8b31d34188
DTSTAMP:20260422T020142Z
SUMMARY:Vortrag Prof. Dr. Rolf Dornberger «Willkommen in der Zukunft»
DESCRIPTION:Sito web: http://schluesselzunft.ch/\nRelatore/i: Herr\nProf. D
 r. Rolf Dornberger\, Head of\nInstitute for Information SystemsUniversity 
 of\nApplied Sciences and Arts Northwestern Switzerland / School of\nBusine
 ss / Institute for Information Systems
URL:https://rc-dreilaendereck.ch/it/agenda/show/131276
DTSTART;TZID=Europe/Zurich:20211214T121500
DTEND;TZID=Europe/Zurich:20211214T133000
LOCATION:Restaurant Schlüsselzunft\, Freie Strasse 25\, 4001 Basel
CATEGORIES:Rotary
END:VEVENT
BEGIN:VTIMEZONE
TZID:Europe/Zurich
BEGIN:STANDARD
DTSTART:20211214T121500
TZNAME:CET
TZOFFSETTO:+0100
TZOFFSETFROM:+0100
END:STANDARD
END:VTIMEZONE
END:VCALENDAR
