BEGIN:VCALENDAR
PRODID:-//eluceo/ical//2.0/EN
VERSION:2.0
CALSCALE:GREGORIAN
BEGIN:VEVENT
UID:ae751f527a935b9c116ce4b0177ae8ea
DTSTAMP:20260421T130051Z
SUMMARY:Partneranlass / Abendanlass Besichtigung Käser Schloss
DESCRIPTION:Partneranlass im Käser Schloss / Whisky castle\n\nBesichtigung
  der Whisky und Obstbrennerei \n\nSie möchten mal erfahren wie Whisky wel
 tweit in verschiedenen Variationen gebraut wird\, oder wie ein Obstbrand o
 der sogar ein Heubrand hergestellt wird?\n\nDie Einführung dauert ca. 1h 
 30 Min. \n\n- Sie erhalten einen Einblick in das Whisky-Castle\n\n- Wie en
 tstehen Whisky und Obstbrände? Herr Käser wird es Ihnen erklären.\n\n- 
 Wo wird Mythos Whisky produziert\, die verschiedenen Länder werden Ihnen 
 vorgestellt.\n\n- Sie nehmen an einer Degustation teil mit edelsten Tropfe
 n\n\n- Ein Glas RieslingxSylvaner oder Mineralwasser mit frischem Speckzop
 f wird gereicht.\n\nRuedi Käser wird Sie in die geheime Welt der Brände 
 und Whiskys entführen!\n\nhttp://shop.kaesers-schloss.ch/\n\n \n\nKosten
 \n\nCHF 40.- pro Person (Es gibt eine Mindestpauschale...)\n\n \n\nAnreis
 e\n\nindividuell\n\n \n\nKäsers-Schloss AG\n\nSchlossstrasse 17c\n\n5077
  Elfingen \nVefsíða: http://www.kaesers-schloss.ch/veranstaltungen/\nFy
 rirlesari(ar): Sascha Jäger
URL:https://rc-dreilaendereck.ch/is/agenda/show/76969
DTSTART;TZID=Europe/Zurich:20180614T190000
DTEND;TZID=Europe/Zurich:20180614T210000
LOCATION:Schlossstrasse 8\, 5077 Elfingen
CATEGORIES:Rotary
END:VEVENT
BEGIN:VTIMEZONE
TZID:Europe/Zurich
BEGIN:DAYLIGHT
DTSTART:20180614T190000
TZNAME:CEST
TZOFFSETTO:+0200
TZOFFSETFROM:+0200
END:DAYLIGHT
END:VTIMEZONE
END:VCALENDAR
