BEGIN:VCALENDAR
PRODID:-//eluceo/ical//2.0/EN
VERSION:2.0
CALSCALE:GREGORIAN
BEGIN:VEVENT
UID:bec04d8ed89457f70f6fbc9924b52639
DTSTAMP:20260424T202520Z
SUMMARY:Vortrag Urs Indermühle „Unternehmensübernahmen in der Schweiz
 “
DESCRIPTION:Vefsíða: http://www.schluesselzunft.ch/\nFyrirlesari(ar): Urs
  Indermühle\, Partner und Sitzleiter Basel Ernst & Young
URL:https://rc-dreilaendereck.ch/is/agenda/show/76933
DTSTART;TZID=Europe/Zurich:20180320T120000
DTEND;TZID=Europe/Zurich:20180320T120000
LOCATION:Restaurant Schlüsselzunft\, Freie Strasse 25\, 4001 Basel 
CATEGORIES:Rotary
END:VEVENT
BEGIN:VTIMEZONE
TZID:Europe/Zurich
BEGIN:STANDARD
DTSTART:20180320T120000
TZNAME:CET
TZOFFSETTO:+0100
TZOFFSETFROM:+0100
END:STANDARD
END:VTIMEZONE
END:VCALENDAR
