BEGIN:VCALENDAR
PRODID:-//eluceo/ical//2.0/EN
VERSION:2.0
CALSCALE:GREGORIAN
BEGIN:VEVENT
UID:b4739c3cbe44004659ecdba30aa4dfc3
DTSTAMP:20260420T103208Z
SUMMARY:Sparlunch THE ITALIAN LUNCH - RESTAURANT DU COEUR und Pinübergabe 
 Neumitglieder
DESCRIPTION:Mit diesem ITALIAN-LUNCH JEDEN ERSTEN DIENSTAG DES MONATS unte
 rstützen wir unser Gemeindienst-Schwerpunkt-Projekt SOUP&CHILL.\n\nSeit 
 Öffnung des Lokals als "Restaurant du Coeur" in Anlehnung an die Idee de
 s französischen Schauspielers\, Humoristen und Sozialaktivisten Coluche (
 Michel Gérard Joseph Colucci\, 1944-1986) bietet es Montag bis Freitag 
 von 12.00 bis 14.00 Uhr einen Mittagstisch an.\nValmynd: Was ist ein Spa
 r-Lunch? \n\nAnstelle des normalen Mittagessens (oder Abendessens)\, genie
 sst der Club eine weniger teure Suppe zum normalen Preis des Essens. Die D
 ifferenz geht zu Gunsten von PolioPlus.\nVefsíða: https://www.soupandchi
 ll.com/
URL:https://rc-dreilaendereck.ch/is/agenda/show/76575
DTSTART;TZID=Europe/Zurich:20171107T120000
DTEND;TZID=Europe/Zurich:20171107T120000
LOCATION:Soup&Chill\, Solothurnerstrasse 8\, 4053 Basel
CATEGORIES:Rotary
END:VEVENT
BEGIN:VTIMEZONE
TZID:Europe/Zurich
BEGIN:STANDARD
DTSTART:20171107T120000
TZNAME:CET
TZOFFSETTO:+0100
TZOFFSETFROM:+0100
END:STANDARD
END:VTIMEZONE
END:VCALENDAR
