BEGIN:VCALENDAR
PRODID:-//eluceo/ical//2.0/EN
VERSION:2.0
CALSCALE:GREGORIAN
BEGIN:VEVENT
UID:7a04d998cec6252b6219f76d20ce04e4
DTSTAMP:20260424T220404Z
SUMMARY:Besuch und Vortrag Assistant Governor "Basel Regio" Marcus Haegi
DESCRIPTION:Vefsíða: http://www.schluesselzunft.ch\nFyrirlesari(ar): AG M
 arcus Haegi
URL:https://rc-dreilaendereck.ch/is/agenda/show/76563
DTSTART;TZID=Europe/Zurich:20171017T120000
DTEND;TZID=Europe/Zurich:20171017T120000
LOCATION:Restaurant Schlüsselzunft\, Freie Strasse 25\, 4001 Basel 
CATEGORIES:Rotary
END:VEVENT
BEGIN:VTIMEZONE
TZID:Europe/Zurich
BEGIN:DAYLIGHT
DTSTART:20171017T120000
TZNAME:CEST
TZOFFSETTO:+0200
TZOFFSETFROM:+0200
END:DAYLIGHT
END:VTIMEZONE
END:VCALENDAR
