BEGIN:VCALENDAR
PRODID:-//eluceo/ical//2.0/EN
VERSION:2.0
CALSCALE:GREGORIAN
BEGIN:VEVENT
UID:4b88951503a0df0dd7b6381ac4126840
DTSTAMP:20260425T013208Z
SUMMARY:Referat Speed and Spirit
DESCRIPTION:Bereits seit meiner frühen Kindheit habe ich die Zielflagge fe
 st im Visier. Motorsport\, das bedeutet Geschwindigkeit\, Emotionen\, Sieg
 eswille. „Racing is a way of life“. Für den Motorsport gebe ich alles
 . Auf und neben der Rennstrecke!\nVefsíða: http://www.jeffreyschmidt.ch\
 nFyrirlesari(ar): Jeffrey Schmidt\, Rennfahrer
URL:https://rc-dreilaendereck.ch/is/agenda/show/69932
DTSTART;TZID=Europe/Zurich:20170509T120000
DTEND;TZID=Europe/Zurich:20170509T140000
LOCATION:Restaurant Schlüsselzunft
CATEGORIES:Rotary
END:VEVENT
BEGIN:VTIMEZONE
TZID:Europe/Zurich
BEGIN:DAYLIGHT
DTSTART:20170509T120000
TZNAME:CEST
TZOFFSETTO:+0200
TZOFFSETFROM:+0200
END:DAYLIGHT
END:VTIMEZONE
END:VCALENDAR
