BEGIN:VCALENDAR
PRODID:-//eluceo/ical//2.0/EN
VERSION:2.0
CALSCALE:GREGORIAN
BEGIN:VEVENT
UID:0b50f05852891111beee6d726b6cf6d3
DTSTAMP:20260425T035349Z
SUMMARY:Alex Frei im Interview mit Jeanne Fürst
DESCRIPTION:Fyrirlesari(ar): Alexander Frei\, Schweizer Fussballspieler 
URL:https://rc-dreilaendereck.ch/is/agenda/show/68339
DTSTART;TZID=Europe/Zurich:20170117T120000
DTEND;TZID=Europe/Zurich:20170117T140000
LOCATION:Restaurant Schlüsselzunft
CATEGORIES:Rotary
END:VEVENT
BEGIN:VTIMEZONE
TZID:Europe/Zurich
BEGIN:STANDARD
DTSTART:20170117T120000
TZNAME:CET
TZOFFSETTO:+0100
TZOFFSETFROM:+0100
END:STANDARD
END:VTIMEZONE
END:VCALENDAR
