BEGIN:VCALENDAR
PRODID:-//eluceo/ical//2.0/EN
VERSION:2.0
CALSCALE:GREGORIAN
BEGIN:VEVENT
UID:e3690978e356568b191ee9695dcf7c76
DTSTAMP:20260425T031641Z
SUMMARY:King of the Grill - Restaurant du Coeur
DESCRIPTION:Mit diesem GRILL-LUNCH JEDEN ERSTEN DIENSTAG DES MONATS unters
 tützen wir unser Gemeindienst-Schwerpunkt-Projekt SOUP&CHILL.\n\nSeit Öf
 fnung des Lokals als "Restaurant du Coeur" in Anlehnung an die Idee des f
 ranzösischen Schauspielers\, Humoristen und Sozialaktivisten Coluche (Mic
 hel Gérard Joseph Colucci\, 1944-1986) bietet es Montag bis Freitag von 
 12.00 bis 14.00 Uhr einen Mittagstisch an.\nVefsíða: http://www.soupand
 chill.com
URL:https://rc-dreilaendereck.ch/is/agenda/show/67157
DTSTART;TZID=Europe/Zurich:20161206T120000
DTEND;TZID=Europe/Zurich:20161206T140000
LOCATION:Soup&Chill\, Solothurnerstrasse 8\, 4053 Basel
CATEGORIES:Rotary
END:VEVENT
BEGIN:VTIMEZONE
TZID:Europe/Zurich
BEGIN:STANDARD
DTSTART:20161206T120000
TZNAME:CET
TZOFFSETTO:+0100
TZOFFSETFROM:+0100
END:STANDARD
END:VTIMEZONE
END:VCALENDAR
