BEGIN:VCALENDAR
PRODID:-//eluceo/ical//2.0/EN
VERSION:2.0
CALSCALE:GREGORIAN
BEGIN:VEVENT
UID:26b43f8f3f0a97709062fe35d9f56e50
DTSTAMP:20260425T125001Z
SUMMARY:Clubreise mit dem RC Berlin-Spree nach Montreux
DESCRIPTION:Unsere Berliner Freunde organisieren vom 28.08.2015 – 30.08.
 2015 eine Reise nach Montreux\, zu der wir ebenfalls herzlich eingeladen 
 sind. Jean-François Monnard\, langjähriges Mitglied des RC-Berlin-Spree
 \, lebt seit einigen Jahren in Montreux und hat die Ausgestaltung des Pro
 gramms übernommen.\n\nHöhepunkte ist das Konzert beim Musikfests „
 Septembre Musical 2015“ am Fr.\, 28.08.2015\, 19.30 Uhr mit dem Russi
 an National Orchestra unter der Leitung des weltbekannten Dirigenten Ha
 rtmut Haenchen\, Pianist MIKHAIL PLETNEV mit Werken von Mozart und Haydn
 . (http://www.septmus.ch).\n\nDetailprogramm: \nFreitag 28.8.15\nBesichti
 gung des CERN in Genf\nAm Abend Spaziergang in Montreux\, Barbecue um im H
 otel\, anschliessend Konzert\n\nSamstag 29.8.15:\nMartigny: Matisse Ausste
 llung im Gianadda Museum (http://www.gianadda.ch)\nWeinprobe\nGruyères: 
 Besichtigung Käseherstellung + Schokoladenfabrik Cailler\n\nSonntag 30.8.
 15: \nLausanne: Besichtigung Altstadt + Kathedrale\, sowie Olympisches 
 Museum\nVefsíða: http://www.rotary1940.de/berlin_spree/\nFyrirlesari(ar)
 : Jean-François Monnard\, RC Berlin-Spree
URL:https://rc-dreilaendereck.ch/is/agenda/show/51123
DTSTART;TZID=Europe/Zurich:20150828T000000
DTEND;TZID=Europe/Zurich:20150830T000000
LOCATION:Genf\, Montreux\, Martigny\, Gruyères\, Lausanne
CATEGORIES:Rotary
END:VEVENT
BEGIN:VTIMEZONE
TZID:Europe/Zurich
BEGIN:DAYLIGHT
DTSTART:20150828T000000
TZNAME:CEST
TZOFFSETTO:+0200
TZOFFSETFROM:+0200
END:DAYLIGHT
END:VTIMEZONE
END:VCALENDAR
