BEGIN:VCALENDAR
PRODID:-//eluceo/ical//2.0/EN
VERSION:2.0
CALSCALE:GREGORIAN
BEGIN:VEVENT
UID:635e840a824e6a27d2713bc61cdd54db
DTSTAMP:20260425T130544Z
SUMMARY:Vortrag: "Vom Manuskript zum Bestseller"
DESCRIPTION:Vefsíða: https://www.limmatverlag.ch/programm/titel/878-reden
 -wir-ueber-das-sterben.html\nFyrirlesari(ar): Doritt Härtel gibt Einblick
 e zur\nEntstehung und Hintergründe zum Buch „Reden wir über das Sterb
 en - Vermächtnis\neine Ärztin und Patientin“ von Kathryn Schneider-Gu
 rewitsch.
URL:https://rc-dreilaendereck.ch/is/agenda/show/158952
DTSTART;TZID=Europe/Zurich:20240423T121500
DTEND;TZID=Europe/Zurich:20240423T133000
LOCATION:Restaurant Schlüsselzunft\, Freie Strasse 25\, 4001 Basel
CATEGORIES:Rotary
END:VEVENT
BEGIN:VTIMEZONE
TZID:Europe/Zurich
BEGIN:DAYLIGHT
DTSTART:20240423T121500
TZNAME:CEST
TZOFFSETTO:+0200
TZOFFSETFROM:+0200
END:DAYLIGHT
END:VTIMEZONE
END:VCALENDAR
