BEGIN:VCALENDAR
PRODID:-//eluceo/ical//2.0/EN
VERSION:2.0
CALSCALE:GREGORIAN
BEGIN:VEVENT
UID:e6b84c260966fba7b2a51f462bc0769d
DTSTAMP:20260419T205559Z
SUMMARY:Fasnacht: Kleiner Tisch im EG
DESCRIPTION:Vefsíða: http://schluesselzunft.ch/\nFyrirlesari(ar): 
URL:https://rc-dreilaendereck.ch/is/agenda/show/158943
DTSTART;TZID=Europe/Zurich:20240220T121500
DTEND;TZID=Europe/Zurich:20240220T133000
LOCATION:Restaurant Schlüsselzunft\, Freie Strasse 25\, 4001 Basel
CATEGORIES:Rotary
END:VEVENT
BEGIN:VTIMEZONE
TZID:Europe/Zurich
BEGIN:STANDARD
DTSTART:20240220T121500
TZNAME:CET
TZOFFSETTO:+0100
TZOFFSETFROM:+0100
END:STANDARD
END:VTIMEZONE
END:VCALENDAR
