BEGIN:VCALENDAR
PRODID:-//eluceo/ical//2.0/EN
VERSION:2.0
CALSCALE:GREGORIAN
BEGIN:VEVENT
UID:3e379466817bf09ab533cd45920066d0
DTSTAMP:20260420T004021Z
SUMMARY:Referat: RYLA
DESCRIPTION:Vefsíða: http://schluesselzunft.ch/\nFyrirlesari(ar): 
URL:https://rc-dreilaendereck.ch/is/agenda/show/158927
DTSTART;TZID=Europe/Zurich:20231024T121500
DTEND;TZID=Europe/Zurich:20231024T133000
LOCATION:Restaurant Schlüsselzunft\, Freie Strasse 25\, 4001 Basel
CATEGORIES:Rotary
END:VEVENT
BEGIN:VTIMEZONE
TZID:Europe/Zurich
BEGIN:DAYLIGHT
DTSTART:20231024T121500
TZNAME:CEST
TZOFFSETTO:+0200
TZOFFSETFROM:+0200
END:DAYLIGHT
END:VTIMEZONE
END:VCALENDAR
