BEGIN:VCALENDAR
PRODID:-//eluceo/ical//2.0/EN
VERSION:2.0
CALSCALE:GREGORIAN
BEGIN:VEVENT
UID:e6d227c20e00424c6de7be797c952306
DTSTAMP:20260420T030431Z
SUMMARY:BESUCH DER MERIAN GÄRTEN MIT FÜHRUNG & DINNER IN DER "SCHEUNE" ZU
 SAMMEN MIT DEM ROTARY CLUB WETTSTEIN
DESCRIPTION:Vefsíða: https://www.meriangärten.ch/de/besuch/feiern-tagen/
 oekonomie.html\nFyrirlesari(ar): Paola Maranta\, RC Basel-Wettstein\, Quin
 tus Miller\, RC Basel-Dreiländereck
URL:https://rc-dreilaendereck.ch/is/agenda/show/152165
DTSTART;TZID=Europe/Zurich:20230513T164500
DTEND;TZID=Europe/Zurich:20230513T230000
LOCATION:Restaurant IRIS\, "Scheune"\, Vorder Brüglingen\, Christoph Meria
 n Gärten
CATEGORIES:Rotary
END:VEVENT
BEGIN:VTIMEZONE
TZID:Europe/Zurich
BEGIN:DAYLIGHT
DTSTART:20230513T164500
TZNAME:CEST
TZOFFSETTO:+0200
TZOFFSETFROM:+0200
END:DAYLIGHT
END:VTIMEZONE
END:VCALENDAR
