BEGIN:VCALENDAR
PRODID:-//eluceo/ical//2.0/EN
VERSION:2.0
CALSCALE:GREGORIAN
BEGIN:VEVENT
UID:0dddc427ec7ebf94d026422df061d71e
DTSTAMP:20260424T121813Z
SUMMARY:Vortrag «Unsere Website Rotary Polaris»
DESCRIPTION:Vefsíða: http://schluesselzunft.ch/\nFyrirlesari(ar): Stephan
  Bachmann
URL:https://rc-dreilaendereck.ch/is/agenda/show/134913
DTSTART;TZID=Europe/Zurich:20220111T121500
DTEND;TZID=Europe/Zurich:20220111T133000
LOCATION:Restaurant Schlüsselzunft\, Freie Strasse 25\, 4001 Basel
CATEGORIES:Rotary
END:VEVENT
BEGIN:VTIMEZONE
TZID:Europe/Zurich
BEGIN:STANDARD
DTSTART:20220111T121500
TZNAME:CET
TZOFFSETTO:+0100
TZOFFSETFROM:+0100
END:STANDARD
END:VTIMEZONE
END:VCALENDAR
