BEGIN:VCALENDAR
PRODID:-//eluceo/ical//2.0/EN
VERSION:2.0
CALSCALE:GREGORIAN
BEGIN:VEVENT
UID:1aa3eba8001e8f989c24bbc61e3f50bf
DTSTAMP:20260421T191622Z
SUMMARY:Plauderlunch (Vortrag abgesagt -  Frank Bernhardt «Wenn Content Ki
 ng ist\, was ist dann die Leitidee?»
DESCRIPTION:Vefsíða: http://schluesselzunft.ch/\nFyrirlesari(ar): Herr Fr
 ank Bernhardt\, Geschäftsleiter\, Inhaber Multiplikator AGhttp://www.mult
 iplikator.ch/
URL:https://rc-dreilaendereck.ch/is/agenda/show/133340
DTSTART;TZID=Europe/Zurich:20211130T121500
DTEND;TZID=Europe/Zurich:20211130T133000
LOCATION:Restaurant Schlüsselzunft\, Freie Strasse 25\, 4001 Basel
CATEGORIES:Rotary
END:VEVENT
BEGIN:VTIMEZONE
TZID:Europe/Zurich
BEGIN:STANDARD
DTSTART:20211130T121500
TZNAME:CET
TZOFFSETTO:+0100
TZOFFSETFROM:+0100
END:STANDARD
END:VTIMEZONE
END:VCALENDAR
