BEGIN:VCALENDAR
PRODID:-//eluceo/ical//2.0/EN
VERSION:2.0
CALSCALE:GREGORIAN
BEGIN:VEVENT
UID:f0f7e2e4d77d66b4567702a238c905b7
DTSTAMP:20260424T141743Z
SUMMARY:Plauderlunch
DESCRIPTION:Vefsíða: http://schluesselzunft.ch/
URL:https://rc-dreilaendereck.ch/is/agenda/show/132522
DTSTART;TZID=Europe/Zurich:20210928T121500
DTEND;TZID=Europe/Zurich:20210928T133000
LOCATION:Restaurant Schlüsselzunft\, Freie Strasse 25\, 4001 Basel
CATEGORIES:Rotary
END:VEVENT
BEGIN:VTIMEZONE
TZID:Europe/Zurich
BEGIN:DAYLIGHT
DTSTART:20210928T121500
TZNAME:CEST
TZOFFSETTO:+0200
TZOFFSETFROM:+0200
END:DAYLIGHT
END:VTIMEZONE
END:VCALENDAR
