BEGIN:VCALENDAR
PRODID:-//eluceo/ical//2.0/EN
VERSION:2.0
CALSCALE:GREGORIAN
BEGIN:VEVENT
UID:38374ffef738d5b3d63ac3741dd35835
DTSTAMP:20260424T122007Z
SUMMARY:Vortrag Jennifer Hefti & Norman Giumelli «Ryla 2021»
DESCRIPTION:Vefsíða: http://schluesselzunft.ch/\nFyrirlesari(ar): Frau Je
 nnifer Hefti & Herr Norman Giumelli\, Rotaract Basel
URL:https://rc-dreilaendereck.ch/is/agenda/show/131279
DTSTART;TZID=Europe/Zurich:20211221T121500
DTEND;TZID=Europe/Zurich:20211221T133000
LOCATION:Restaurant Schlüsselzunft\, Freie Strasse 25\, 4001 Basel
CATEGORIES:Rotary
END:VEVENT
BEGIN:VTIMEZONE
TZID:Europe/Zurich
BEGIN:STANDARD
DTSTART:20211221T121500
TZNAME:CET
TZOFFSETTO:+0100
TZOFFSETFROM:+0100
END:STANDARD
END:VTIMEZONE
END:VCALENDAR
