BEGIN:VCALENDAR
PRODID:-//eluceo/ical//2.0/EN
VERSION:2.0
CALSCALE:GREGORIAN
BEGIN:VEVENT
UID:1a0a1c46d9d1afd55dd0eddbfac9e5ab
DTSTAMP:20260420T131521Z
SUMMARY:FAMILIENANLASS - KALLIGRAPHIEKURS
DESCRIPTION:Die Kunst des Schönen Schreibens erlernt man nicht an einem 
 Tag. Daher gibt es eine Fortsetzung vom Kalligraphiekurs mit Andy Schenk
 . Einsteiger werden beim ersten Federstrichen auf dem Papier begleitetun
 d Erfahrene und ihnen gezeigt\, wie sie sich eine Welt voller Rhythmus und
  Ruhe\, Erleben und Hingabe erschliessen können.\n\nFür Fortgeschrittene
  gibt es diverse Möglichkeiten\, den Variationen nicht nur mit Tinte u
 nd Feder\, sondern mit vielen verschiedenen Schreibgeräten und Techniken
  auf die Spur zu kommen. Ausserdem stehen im Atelier alle erdenklichen M
 öglichkeiten zur Verfügung\, sich kalligraphisch auszuleben.\n\nKinder s
 ind herzlich willkommen!\n\nKosten inklusiv Material pro Person: CHF 150\n
 Site internet: https://www.kalligraphie.com/17-0-Ueber-uns.html\nConféren
 cier(s): Andreas Schenk\, Kalligraph
URL:https://rc-dreilaendereck.ch/fr/agenda/show/97115
DTSTART;TZID=Europe/Zurich:20190330T000000
DTEND;TZID=Europe/Zurich:20190330T000000
LOCATION:Atelier/Kurslokal\, Farnsburgerstrasse 44\, 4052 Basel
CATEGORIES:Rotary
END:VEVENT
BEGIN:VTIMEZONE
TZID:Europe/Zurich
BEGIN:STANDARD
DTSTART:20190330T000000
TZNAME:CET
TZOFFSETTO:+0100
TZOFFSETFROM:+0100
END:STANDARD
END:VTIMEZONE
END:VCALENDAR
