BEGIN:VCALENDAR
PRODID:-//eluceo/ical//2.0/EN
VERSION:2.0
CALSCALE:GREGORIAN
BEGIN:VEVENT
UID:ab513db914771fe61765b592da4660ae
DTSTAMP:20260420T112916Z
SUMMARY:Partneranlass / Informationen Rotaract und Rückblick Rom-Reise
DESCRIPTION:Rotaract\n\nRotaract informiert über die anstehende Charter F
 eier vom 8.09.2018\n\n \n\nRom-Reise\n\nDiana und Peter Blome werden für
  eine Verdankung anwesend sein.\n\n \n\nFotos\n\nDaniel Bard wird ein Fot
 oalbum zur Ansicht rumreichen (kann bestellt werden). Während dem Essen l
 äuft durchgehend eine Dia-Show mit einer Auswahl an Impressionen aus Rom.
 \n\n \n\nAnmeldung\n\nDamit genügend Plätze gedeckt werden können bitt
 en wir um eine An- resp. Abmeldung. Besten Dank.\nConférencier(s): Rotara
 ct /Diana und Peter Blome
URL:https://rc-dreilaendereck.ch/fr/agenda/show/76964
DTSTART;TZID=Europe/Zurich:20180529T120000
DTEND;TZID=Europe/Zurich:20180529T120000
LOCATION:Restaurant Schlüsselzunft\, Freie Strasse 25\, 4001 Basel 
CATEGORIES:Rotary
END:VEVENT
BEGIN:VTIMEZONE
TZID:Europe/Zurich
BEGIN:DAYLIGHT
DTSTART:20180529T120000
TZNAME:CEST
TZOFFSETTO:+0200
TZOFFSETFROM:+0200
END:DAYLIGHT
END:VTIMEZONE
END:VCALENDAR
