BEGIN:VCALENDAR
PRODID:-//eluceo/ical//2.0/EN
VERSION:2.0
CALSCALE:GREGORIAN
BEGIN:VEVENT
UID:4f7ea806b5feec6c8cfa4cb93976c159
DTSTAMP:20260421T081656Z
SUMMARY:Restaurant du Coeur
DESCRIPTION:Mit diesem LUNCH JEDEN ERSTEN DIENSTAG DES MONATS unterstützen
  wir unser Gemeindienst-Schwerpunkt-Projekt SOUP&CHILL.\n\nSeit Öffnung d
 es Lokals als "Restaurant du Coeur" in Anlehnung an die Idee des französ
 ischen Schauspielers\, Humoristen und Sozialaktivisten Coluche (Michel Gé
 rard Joseph Colucci\, 1944-1986) bietet es Montag bis Freitag von 12.00 b
 is 14.00 Uhr einen Mittagstisch an.
URL:https://rc-dreilaendereck.ch/fr/agenda/show/67123
DTSTART;TZID=Europe/Zurich:20161004T120000
DTEND;TZID=Europe/Zurich:20161004T140000
LOCATION:Soup & Chill\, Solothurnerstrasse 8\, 4053 Basel
CATEGORIES:Rotary
END:VEVENT
BEGIN:VTIMEZONE
TZID:Europe/Zurich
BEGIN:DAYLIGHT
DTSTART:20161004T120000
TZNAME:CEST
TZOFFSETTO:+0200
TZOFFSETFROM:+0200
END:DAYLIGHT
END:VTIMEZONE
END:VCALENDAR
